{
 "currentVersion": 10.91,
 "serviceDescription": "Ortofotomapa 2008, pixel 20 cm, bez popisků",
 "mapName": "Ortofotomapa 2008",
 "description": "",
 "copyrightText": "© Geodis",
 "supportsDynamicLayers": false,
 "layers": [
  {
   "id": 0,
   "name": "Copyright",
   "parentLayerId": -1,
   "defaultVisibility": true,
   "subLayerIds": [
    1,
    2,
    3,
    4,
    5
   ],
   "minScale": 0,
   "maxScale": 0,
   "type": "Group Layer"
  },
  {
   "id": 1,
   "name": "Copyright (1:2000 - 1:5000)",
   "parentLayerId": 0,
   "defaultVisibility": true,
   "subLayerIds": null,
   "minScale": 5000,
   "maxScale": 0,
   "type": "Feature Layer",
   "geometryType": "esriGeometryPoint"
  },
  {
   "id": 2,
   "name": "Copyright (1:10000)",
   "parentLayerId": 0,
   "defaultVisibility": true,
   "subLayerIds": null,
   "minScale": 10000,
   "maxScale": 5001,
   "type": "Feature Layer",
   "geometryType": "esriGeometryPoint"
  },
  {
   "id": 3,
   "name": "Copyright (1:25000)",
   "parentLayerId": 0,
   "defaultVisibility": true,
   "subLayerIds": null,
   "minScale": 25000,
   "maxScale": 10001,
   "type": "Feature Layer",
   "geometryType": "esriGeometryPoint"
  },
  {
   "id": 4,
   "name": "Copyright (1:100000 - 1:50000)",
   "parentLayerId": 0,
   "defaultVisibility": true,
   "subLayerIds": null,
   "minScale": 100000,
   "maxScale": 25001,
   "type": "Feature Layer",
   "geometryType": "esriGeometryPoint"
  },
  {
   "id": 5,
   "name": "Copyright (malá měřítka)",
   "parentLayerId": 0,
   "defaultVisibility": true,
   "subLayerIds": null,
   "minScale": 500000,
   "maxScale": 100001,
   "type": "Feature Layer",
   "geometryType": "esriGeometryPoint"
  },
  {
   "id": 6,
   "name": "Ortofotomapa 2008",
   "parentLayerId": -1,
   "defaultVisibility": true,
   "subLayerIds": null,
   "minScale": 0,
   "maxScale": 0,
   "type": "Raster Layer"
  }
 ],
 "tables": [],
 "spatialReference": {
  "wkid": 102067,
  "latestWkid": 5514
 },
 "singleFusedMapCache": true,
 "tileInfo": {
  "rows": 256,
  "cols": 256,
  "dpi": 96,
  "format": "JPEG",
  "compressionQuality": 75,
  "origin": {
   "x": -33699800,
   "y": 33699800
  },
  "spatialReference": {
   "wkid": 102067,
   "latestWkid": 5514
  },
  "lods": [
   {
    "level": 0,
    "resolution": 512.0650241300483,
    "scale": 1935360
   },
   {
    "level": 1,
    "resolution": 256.03251206502415,
    "scale": 967680
   },
   {
    "level": 2,
    "resolution": 128.01625603251208,
    "scale": 483840
   },
   {
    "level": 3,
    "resolution": 64.00812801625604,
    "scale": 241920
   },
   {
    "level": 4,
    "resolution": 32.00406400812802,
    "scale": 120960
   },
   {
    "level": 5,
    "resolution": 16.00203200406401,
    "scale": 60480
   },
   {
    "level": 6,
    "resolution": 8.001016002032005,
    "scale": 30240
   },
   {
    "level": 7,
    "resolution": 4.000508001016002,
    "scale": 15120
   },
   {
    "level": 8,
    "resolution": 2.000254000508001,
    "scale": 7560
   },
   {
    "level": 9,
    "resolution": 1.0001270002540006,
    "scale": 3780
   },
   {
    "level": 10,
    "resolution": 0.5000635001270003,
    "scale": 1890
   },
   {
    "level": 11,
    "resolution": 0.25003175006350015,
    "scale": 945
   }
  ]
 },
 "initialExtent": {
  "xmin": -581781.7796610169,
  "ymin": -1180245.7627118644,
  "xmax": -448218.2203389831,
  "ymax": -1129703.3898305087,
  "spatialReference": {
   "wkid": 102067,
   "latestWkid": 5514
  }
 },
 "fullExtent": {
  "xmin": -567500,
  "ymin": -1208000.0000000002,
  "xmax": -462119.8132000007,
  "ymax": -1129000,
  "spatialReference": {
   "wkid": 102067,
   "latestWkid": 5514
  }
 },
 "minScale": 1935360,
 "maxScale": 945,
 "units": "esriMeters",
 "supportedImageFormatTypes": "PNG32,PNG24,PNG,JPG,DIB,TIFF,EMF,PS,PDF,GIF,SVG,SVGZ,BMP",
 "documentInfo": {
  "Title": "Ortofotomapa 2008, pixel 20 cm",
  "Author": "Irena Křeková",
  "Comments": "Ortofotomapa 2008, pixel 20 cm, bez popisků",
  "Subject": "Ortofotomapa 2008, pixel 20 cm, bez popisků",
  "Category": "",
  "AntialiasingMode": "None",
  "TextAntialiasingMode": "Force",
  "Keywords": "ortofotosnímky"
 },
 "capabilities": "Map,Query,Data",
 "supportedQueryFormats": "JSON, geoJSON",
 "exportTilesAllowed": false,
 "referenceScale": 0,
 "datumTransformations": [
  {
   "geoTransforms": [
    {
     "wkid": 108001,
     "latestWkid": 1241,
     "transformForward": true,
     "name": "NAD_1927_To_NAD_1983_NADCON"
    }
   ]
  },
  {
   "geoTransforms": [
    {
     "wkid": 108001,
     "latestWkid": 1241,
     "transformForward": false,
     "name": "NAD_1927_To_NAD_1983_NADCON"
    }
   ]
  }
 ],
 "supportsDatumTransformation": true,
 "maxRecordCount": 1000,
 "maxImageHeight": 4096,
 "maxImageWidth": 4096,
 "supportedExtensions": ""
}
