{
 "currentVersion": 10.91,
 "serviceDescription": "Data200 v měřítku 1:1 500 000",
 "mapName": "prehledova_mapa",
 "description": "",
 "copyrightText": "",
 "supportsDynamicLayers": false,
 "layers": [
  {
   "id": 0,
   "name": "Spravni hranice",
   "parentLayerId": -1,
   "defaultVisibility": true,
   "subLayerIds": [
    1,
    2
   ],
   "minScale": 0,
   "maxScale": 0,
   "type": "Group Layer"
  },
  {
   "id": 1,
   "name": "Kraje",
   "parentLayerId": 0,
   "defaultVisibility": true,
   "subLayerIds": null,
   "minScale": 0,
   "maxScale": 200001,
   "type": "Feature Layer",
   "geometryType": "esriGeometryPolygon"
  },
  {
   "id": 2,
   "name": "Správní hranice ORP",
   "parentLayerId": 0,
   "defaultVisibility": true,
   "subLayerIds": null,
   "minScale": 2000000,
   "maxScale": 0,
   "type": "Feature Layer",
   "geometryType": "esriGeometryPolygon"
  },
  {
   "id": 3,
   "name": "Silnice a dálnice",
   "parentLayerId": -1,
   "defaultVisibility": true,
   "subLayerIds": null,
   "minScale": 0,
   "maxScale": 1000000,
   "type": "Feature Layer",
   "geometryType": "esriGeometryPolyline"
  },
  {
   "id": 4,
   "name": "Vodní toky",
   "parentLayerId": -1,
   "defaultVisibility": true,
   "subLayerIds": null,
   "minScale": 0,
   "maxScale": 500001,
   "type": "Feature Layer",
   "geometryType": "esriGeometryPolyline"
  },
  {
   "id": 5,
   "name": "Blok souvislé zástavby",
   "parentLayerId": -1,
   "defaultVisibility": true,
   "subLayerIds": null,
   "minScale": 0,
   "maxScale": 250001,
   "type": "Feature Layer",
   "geometryType": "esriGeometryPolygon"
  },
  {
   "id": 6,
   "name": "Les",
   "parentLayerId": -1,
   "defaultVisibility": true,
   "subLayerIds": null,
   "minScale": 0,
   "maxScale": 0,
   "type": "Feature Layer",
   "geometryType": "esriGeometryPolygon"
  }
 ],
 "tables": [],
 "spatialReference": {
  "wkid": 102067,
  "latestWkid": 5514
 },
 "singleFusedMapCache": true,
 "tileInfo": {
  "rows": 256,
  "cols": 256,
  "dpi": 96,
  "format": "PNG32",
  "compressionQuality": 0,
  "origin": {
   "x": -33699800,
   "y": 33699800
  },
  "spatialReference": {
   "wkid": 102067,
   "latestWkid": 5514
  },
  "lods": [
   {
    "level": 0,
    "resolution": 396.87579375158754,
    "scale": 1500000
   }
  ]
 },
 "initialExtent": {
  "xmin": -816692.0110507507,
  "ymin": -1392040.1332474821,
  "xmax": -211853.30137333134,
  "ymax": -1128911.4819901795,
  "spatialReference": {
   "wkid": 102067,
   "latestWkid": 5514
  }
 },
 "fullExtent": {
  "xmin": -904584.8599999994,
  "ymin": -1227295.8299999982,
  "xmax": -431724.30000000075,
  "ymax": -935236.5899999999,
  "spatialReference": {
   "wkid": 102067,
   "latestWkid": 5514
  }
 },
 "minScale": 1500000,
 "maxScale": 1500000,
 "units": "esriMeters",
 "supportedImageFormatTypes": "PNG32,PNG24,PNG,JPG,DIB,TIFF,EMF,PS,PDF,GIF,SVG,SVGZ,BMP",
 "documentInfo": {
  "Title": "Základní mapa v malém měřítku pro přehledovou mapu",
  "Author": "Irena Křeková",
  "Comments": "Data200 v měřítku 1:1 500 000",
  "Subject": "Základní mapa v malém měřítku pro přehledovou mapu",
  "Category": "",
  "AntialiasingMode": "None",
  "TextAntialiasingMode": "Force",
  "Keywords": "základní mapa"
 },
 "capabilities": "Map,Query,Data",
 "supportedQueryFormats": "JSON, geoJSON",
 "exportTilesAllowed": false,
 "referenceScale": 0,
 "datumTransformations": [
  {
   "geoTransforms": [
    {
     "wkid": 108001,
     "latestWkid": 1241,
     "transformForward": true,
     "name": "NAD_1927_To_NAD_1983_NADCON"
    }
   ]
  },
  {
   "geoTransforms": [
    {
     "wkid": 108001,
     "latestWkid": 1241,
     "transformForward": false,
     "name": "NAD_1927_To_NAD_1983_NADCON"
    }
   ]
  }
 ],
 "supportsDatumTransformation": true,
 "maxRecordCount": 1000,
 "maxImageHeight": 4096,
 "maxImageWidth": 4096,
 "supportedExtensions": ""
}
